BEGIN:VCALENDAR
VERSION:2.0
PRODID:-//Župnija Poljane - ECPv6.15.16//NONSGML v1.0//EN
CALSCALE:GREGORIAN
METHOD:PUBLISH
X-ORIGINAL-URL:http://zupnija-poljane.rkc.si
X-WR-CALDESC:Dogodki za Župnija Poljane
REFRESH-INTERVAL;VALUE=DURATION:PT1H
X-Robots-Tag:noindex
X-PUBLISHED-TTL:PT1H
BEGIN:VTIMEZONE
TZID:Europe/Ljubljana
BEGIN:DAYLIGHT
TZOFFSETFROM:+0100
TZOFFSETTO:+0200
TZNAME:CEST
DTSTART:20220327T010000
END:DAYLIGHT
BEGIN:STANDARD
TZOFFSETFROM:+0200
TZOFFSETTO:+0100
TZNAME:CET
DTSTART:20221030T010000
END:STANDARD
BEGIN:DAYLIGHT
TZOFFSETFROM:+0100
TZOFFSETTO:+0200
TZNAME:CEST
DTSTART:20230326T010000
END:DAYLIGHT
BEGIN:STANDARD
TZOFFSETFROM:+0200
TZOFFSETTO:+0100
TZNAME:CET
DTSTART:20231029T010000
END:STANDARD
BEGIN:DAYLIGHT
TZOFFSETFROM:+0100
TZOFFSETTO:+0200
TZNAME:CEST
DTSTART:20240331T010000
END:DAYLIGHT
BEGIN:STANDARD
TZOFFSETFROM:+0200
TZOFFSETTO:+0100
TZNAME:CET
DTSTART:20241027T010000
END:STANDARD
END:VTIMEZONE
BEGIN:VEVENT
DTSTART;TZID=Europe/Ljubljana:20231203T080000
DTEND;TZID=Europe/Ljubljana:20231203T100000
DTSTAMP:20260419T144410
CREATED:20231124T155407Z
LAST-MODIFIED:20231124T155407Z
UID:8837-1701590400-1701597600@zupnija-poljane.rkc.si
SUMMARY:Blagoslov adventnih venčkov
DESCRIPTION:
URL:http://zupnija-poljane.rkc.si/event/blagoslov-adventnih-venckov/
END:VEVENT
BEGIN:VEVENT
DTSTART;TZID=Europe/Ljubljana:20231203T100000
DTEND;TZID=Europe/Ljubljana:20231203T110000
DTSTAMP:20260419T144410
CREATED:20231117T152842Z
LAST-MODIFIED:20231117T152850Z
UID:8817-1701597600-1701601200@zupnija-poljane.rkc.si
SUMMARY:Predstavitev birmancev
DESCRIPTION:
URL:http://zupnija-poljane.rkc.si/event/predstavitev-birmancev/
END:VEVENT
BEGIN:VEVENT
DTSTART;TZID=Europe/Ljubljana:20231205T170000
DTEND;TZID=Europe/Ljubljana:20231205T180000
DTSTAMP:20260419T144410
CREATED:20231201T150845Z
LAST-MODIFIED:20231201T150845Z
UID:8850-1701795600-1701799200@zupnija-poljane.rkc.si
SUMMARY:Obisk sv. Miklavža v poljanski cerkvi
DESCRIPTION:Pripravlja Kulturno društvo in KS
URL:http://zupnija-poljane.rkc.si/event/obisk-sv-miklavza-v-poljanski-cerkvi/
END:VEVENT
BEGIN:VEVENT
DTSTART;TZID=Europe/Ljubljana:20231212T193000
DTEND;TZID=Europe/Ljubljana:20231212T210000
DTSTAMP:20260419T144410
CREATED:20231117T153257Z
LAST-MODIFIED:20231124T154850Z
UID:8821-1702409400-1702414800@zupnija-poljane.rkc.si
SUMMARY:Ne se bat' (3)
DESCRIPTION:Poglabljanje v v eri; verouk za odrasle\, katehumenat. \nTema tokratnega srečanj iz veroizpovedi: \n“In Jezusa Kristusa\, Sina Njegovega edinega … \n 
URL:http://zupnija-poljane.rkc.si/event/ne-se-bat-3/
END:VEVENT
BEGIN:VEVENT
DTSTART;VALUE=DATE:20231216
DTEND;VALUE=DATE:20231224
DTSTAMP:20260419T144410
CREATED:20231117T153022Z
LAST-MODIFIED:20231117T153026Z
UID:8819-1702684800-1703375999@zupnija-poljane.rkc.si
SUMMARY:Začetek BOŽIČNE OSEMDNEVNICE
DESCRIPTION:
URL:http://zupnija-poljane.rkc.si/event/zacetek-bozicne-osemdnevnice/
END:VEVENT
BEGIN:VEVENT
DTSTART;TZID=Europe/Ljubljana:20231217T100000
DTEND;TZID=Europe/Ljubljana:20231217T130000
DTSTAMP:20260419T144410
CREATED:20231108T213616Z
LAST-MODIFIED:20231108T213616Z
UID:8778-1702807200-1702818000@zupnija-poljane.rkc.si
SUMMARY:Družinska kateheza
DESCRIPTION:
URL:http://zupnija-poljane.rkc.si/event/druzinska-kateheza/
END:VEVENT
BEGIN:VEVENT
DTSTART;TZID=Europe/Ljubljana:20231224T200000
DTEND;TZID=Europe/Ljubljana:20231224T210000
DTSTAMP:20260419T144410
CREATED:20231216T162859Z
LAST-MODIFIED:20231216T162859Z
UID:8879-1703448000-1703451600@zupnija-poljane.rkc.si
SUMMARY:Družinska maša sv. večera
DESCRIPTION:
URL:http://zupnija-poljane.rkc.si/event/druzinska-masa-sv-vecera/
END:VEVENT
BEGIN:VEVENT
DTSTART;TZID=Europe/Ljubljana:20231224T233000
DTEND;TZID=Europe/Ljubljana:20231225T010000
DTSTAMP:20260419T144410
CREATED:20231201T151016Z
LAST-MODIFIED:20231223T183147Z
UID:8852-1703460600-1703466000@zupnija-poljane.rkc.si
SUMMARY:POLNOČNICA
DESCRIPTION:SV. MAŠA ROJSTVA NAŠEGA ODREŠENIKA JEZUSA
URL:http://zupnija-poljane.rkc.si/event/polnocnica/
END:VEVENT
BEGIN:VEVENT
DTSTART;TZID=Europe/Ljubljana:20231226T100000
DTEND;TZID=Europe/Ljubljana:20231226T110000
DTSTAMP:20260419T144410
CREATED:20231216T163047Z
LAST-MODIFIED:20231216T163047Z
UID:8881-1703584800-1703588400@zupnija-poljane.rkc.si
SUMMARY:Maša za domovino z blag. kolednikov\, po maši blag. konj
DESCRIPTION:
URL:http://zupnija-poljane.rkc.si/event/masa-za-domovino-z-blag-kolednikov-po-masi-blag-konj/
END:VEVENT
BEGIN:VEVENT
DTSTART;TZID=Europe/Ljubljana:20231226T150000
DTEND;TZID=Europe/Ljubljana:20231226T160000
DTSTAMP:20260419T144410
CREATED:20231223T183458Z
LAST-MODIFIED:20231223T183458Z
UID:8901-1703602800-1703606400@zupnija-poljane.rkc.si
SUMMARY:Otvoritev in blagoslov jaslic pri Sv. križu nad Sredno vasjo
DESCRIPTION:
URL:http://zupnija-poljane.rkc.si/event/otvoritev-in-blagoslov-jaslic-pri-sv-krizu-nad-sredno-vasjo/
END:VEVENT
BEGIN:VEVENT
DTSTART;TZID=Europe/Ljubljana:20231226T150000
DTEND;TZID=Europe/Ljubljana:20231230T170000
DTSTAMP:20260419T144410
CREATED:20231223T183640Z
LAST-MODIFIED:20231223T183640Z
UID:8903-1703602800-1703955600@zupnija-poljane.rkc.si
SUMMARY:Obiski kolednikov z božičnimi in novoletnimi voščili
DESCRIPTION:
URL:http://zupnija-poljane.rkc.si/event/obiski-kolednikov-z-bozicnimi-in-novoletnimi-voscili/
END:VEVENT
BEGIN:VEVENT
DTSTART;TZID=Europe/Ljubljana:20231231T100000
DTEND;TZID=Europe/Ljubljana:20231231T110000
DTSTAMP:20260419T144410
CREATED:20231216T163716Z
LAST-MODIFIED:20231216T163716Z
UID:8888-1704016800-1704020400@zupnija-poljane.rkc.si
SUMMARY:Maša z blagoslovom otrok - škof A. Jamnik
DESCRIPTION:
URL:http://zupnija-poljane.rkc.si/event/masa-z-blagoslovom-otrok-skof-a-jamnik/
END:VEVENT
BEGIN:VEVENT
DTSTART;TZID=Europe/Ljubljana:20231231T230000
DTEND;TZID=Europe/Ljubljana:20231231T233000
DTSTAMP:20260419T144410
CREATED:20231216T163303Z
LAST-MODIFIED:20231216T163303Z
UID:8883-1704063600-1704065400@zupnija-poljane.rkc.si
SUMMARY:Zahvalna maša na Gori pri Mariji Vnebovzeti (Malenski Vrh)
DESCRIPTION:
URL:http://zupnija-poljane.rkc.si/event/zahvalna-masa-na-gori-pri-mariji-vnebovzeti-malenski-vrh/
END:VEVENT
END:VCALENDAR