BEGIN:VCALENDAR
VERSION:2.0
PRODID:-//Župnija Poljane - ECPv6.15.16//NONSGML v1.0//EN
CALSCALE:GREGORIAN
METHOD:PUBLISH
X-ORIGINAL-URL:http://zupnija-poljane.rkc.si
X-WR-CALDESC:Dogodki za Župnija Poljane
REFRESH-INTERVAL;VALUE=DURATION:PT1H
X-Robots-Tag:noindex
X-PUBLISHED-TTL:PT1H
BEGIN:VTIMEZONE
TZID:Europe/Ljubljana
BEGIN:DAYLIGHT
TZOFFSETFROM:+0100
TZOFFSETTO:+0200
TZNAME:CEST
DTSTART:20220327T010000
END:DAYLIGHT
BEGIN:STANDARD
TZOFFSETFROM:+0200
TZOFFSETTO:+0100
TZNAME:CET
DTSTART:20221030T010000
END:STANDARD
BEGIN:DAYLIGHT
TZOFFSETFROM:+0100
TZOFFSETTO:+0200
TZNAME:CEST
DTSTART:20230326T010000
END:DAYLIGHT
BEGIN:STANDARD
TZOFFSETFROM:+0200
TZOFFSETTO:+0100
TZNAME:CET
DTSTART:20231029T010000
END:STANDARD
BEGIN:DAYLIGHT
TZOFFSETFROM:+0100
TZOFFSETTO:+0200
TZNAME:CEST
DTSTART:20240331T010000
END:DAYLIGHT
BEGIN:STANDARD
TZOFFSETFROM:+0200
TZOFFSETTO:+0100
TZNAME:CET
DTSTART:20241027T010000
END:STANDARD
END:VTIMEZONE
BEGIN:VEVENT
DTSTART;TZID=Europe/Ljubljana:20231226T100000
DTEND;TZID=Europe/Ljubljana:20231226T110000
DTSTAMP:20260419T161856
CREATED:20231216T163047Z
LAST-MODIFIED:20231216T163047Z
UID:8881-1703584800-1703588400@zupnija-poljane.rkc.si
SUMMARY:Maša za domovino z blag. kolednikov\, po maši blag. konj
DESCRIPTION:
URL:http://zupnija-poljane.rkc.si/event/masa-za-domovino-z-blag-kolednikov-po-masi-blag-konj/
END:VEVENT
BEGIN:VEVENT
DTSTART;TZID=Europe/Ljubljana:20231226T150000
DTEND;TZID=Europe/Ljubljana:20231226T160000
DTSTAMP:20260419T161856
CREATED:20231223T183458Z
LAST-MODIFIED:20231223T183458Z
UID:8901-1703602800-1703606400@zupnija-poljane.rkc.si
SUMMARY:Otvoritev in blagoslov jaslic pri Sv. križu nad Sredno vasjo
DESCRIPTION:
URL:http://zupnija-poljane.rkc.si/event/otvoritev-in-blagoslov-jaslic-pri-sv-krizu-nad-sredno-vasjo/
END:VEVENT
BEGIN:VEVENT
DTSTART;TZID=Europe/Ljubljana:20231226T150000
DTEND;TZID=Europe/Ljubljana:20231230T170000
DTSTAMP:20260419T161856
CREATED:20231223T183640Z
LAST-MODIFIED:20231223T183640Z
UID:8903-1703602800-1703955600@zupnija-poljane.rkc.si
SUMMARY:Obiski kolednikov z božičnimi in novoletnimi voščili
DESCRIPTION:
URL:http://zupnija-poljane.rkc.si/event/obiski-kolednikov-z-bozicnimi-in-novoletnimi-voscili/
END:VEVENT
END:VCALENDAR