BEGIN:VCALENDAR
VERSION:2.0
PRODID:-//Župnija Poljane - ECPv6.15.16//NONSGML v1.0//EN
CALSCALE:GREGORIAN
METHOD:PUBLISH
X-ORIGINAL-URL:http://zupnija-poljane.rkc.si
X-WR-CALDESC:Dogodki za Župnija Poljane
REFRESH-INTERVAL;VALUE=DURATION:PT1H
X-Robots-Tag:noindex
X-PUBLISHED-TTL:PT1H
BEGIN:VTIMEZONE
TZID:Europe/Ljubljana
BEGIN:DAYLIGHT
TZOFFSETFROM:+0100
TZOFFSETTO:+0200
TZNAME:CEST
DTSTART:20220327T010000
END:DAYLIGHT
BEGIN:STANDARD
TZOFFSETFROM:+0200
TZOFFSETTO:+0100
TZNAME:CET
DTSTART:20221030T010000
END:STANDARD
BEGIN:DAYLIGHT
TZOFFSETFROM:+0100
TZOFFSETTO:+0200
TZNAME:CEST
DTSTART:20230326T010000
END:DAYLIGHT
BEGIN:STANDARD
TZOFFSETFROM:+0200
TZOFFSETTO:+0100
TZNAME:CET
DTSTART:20231029T010000
END:STANDARD
BEGIN:DAYLIGHT
TZOFFSETFROM:+0100
TZOFFSETTO:+0200
TZNAME:CEST
DTSTART:20240331T010000
END:DAYLIGHT
BEGIN:STANDARD
TZOFFSETFROM:+0200
TZOFFSETTO:+0100
TZNAME:CET
DTSTART:20241027T010000
END:STANDARD
END:VTIMEZONE
BEGIN:VEVENT
DTSTART;TZID=Europe/Ljubljana:20231107T193000
DTEND;TZID=Europe/Ljubljana:20231107T213000
DTSTAMP:20260419T174456
CREATED:20231104T155438Z
LAST-MODIFIED:20231104T155438Z
UID:8751-1699385400-1699392600@zupnija-poljane.rkc.si
SUMMARY:2. POLANSKI POGOVOR: dr. Jože Balažic
DESCRIPTION:Etični izzivi predloga Zakona o prostovoljnem končanju življenja
URL:http://zupnija-poljane.rkc.si/event/2-polanski-pogovor-dr-joze-balazic/
LOCATION:Župnija Poljane\, Predmost 50
END:VEVENT
END:VCALENDAR